BEGIN:VCALENDAR
VERSION:2.0
PRODID:-//Cell Biology &amp; Physiology//NONSGML Events//EN
CALSCALE:GREGORIAN
X-ORIGINAL-URL:https://cellbiology.wustl.edu/events-bu/
X-WR-CALDESC:Cell Biology &amp; Physiology - Events
BEGIN:VEVENT
UID:20221227T2241Z-1672180894.7161-EO-8426-1@172.23.128.18
STATUS:CONFIRMED
DTSTAMP:20260424T060149Z
CREATED:20221227T161141Z
LAST-MODIFIED:20221227T161141Z
DTSTART;TZID=America/Chicago:20230106T150000
DTEND;TZID=America/Chicago:20230106T160000
SUMMARY: Work-in-Progress (WIP) Series: Wesley Agee
DESCRIPTION: Wesley Agee (Dantas Lab): Modeling asymptomatic colonization o
 f Clostridium difficile in gnotobiotic mice
X-ALT-DESC;FMTTYPE=text/html: <p><b>Wesley Agee </b>(Dantas Lab): Modeling 
 asymptomatic colonization of <em>Clostridium difficile</em> in gnotobiotic 
 mice</p>
CATEGORIES:Events,Seminars
LOCATION:McDonnell Sciences Building\, Room 423
GEO:41.875562;-87.624421
ORGANIZER;CN="Brian":MAILTO:bmarston@wustl.edu
URL;VALUE=URI:https://cellbiology.wustl.edu/events/event/work-in-progress-w
 ip-series-wesley-agee/
ATTACH;FMTTYPE=image/png:https://cellbiology.wustl.edu/app/uploads/2022/12/Screen-Shot-2022-12-19-at-10.33.48-AM.png
END:VEVENT
BEGIN:VTIMEZONE
TZID:America/Chicago
BEGIN:STANDARD
TZOFFSETFROM:-0500
TZOFFSETTO:-0600
DTSTART:20221106T070000
TZNAME:CST
END:STANDARD
END:VTIMEZONE
END:VCALENDAR
