BEGIN:VCALENDAR
VERSION:2.0
PRODID:-//Cell Biology &amp; Physiology//NONSGML Events//EN
CALSCALE:GREGORIAN
X-ORIGINAL-URL:https://cellbiology.wustl.edu/events-bu/
X-WR-CALDESC:Cell Biology &amp; Physiology - Events
BEGIN:VEVENT
UID:20230123T1645Z-1674492320.9846-EO-8928-1@172.23.128.18
STATUS:CONFIRMED
DTSTAMP:20260422T155839Z
CREATED:20230123T153905Z
LAST-MODIFIED:20230125T150018Z
DTSTART;TZID=America/Chicago:20230127T150000
DTEND;TZID=America/Chicago:20230127T160000
SUMMARY: Work-in-Progress (WIP) Series: Taylor Malachowski
DESCRIPTION: Taylor Malachowski (Stewart Lab): Investigating the role of se
 nescence in chemotherapy induced peripheral neuropathy
X-ALT-DESC;FMTTYPE=text/html: <p><b>Taylor Malachowski </b>(Stewart Lab): I
 nvestigating the role of senescence in chemotherapy induced peripheral neur
 opathy</p>
CATEGORIES:Events,Seminars
LOCATION:McDonnell Sciences Building\, Room 423
GEO:41.875562;-87.624421
ORGANIZER;CN="Brian":MAILTO:bmarston@wustl.edu
URL;VALUE=URI:https://cellbiology.wustl.edu/events/event/work-in-progress-w
 ip-series-taylor-malachowski/
ATTACH;FMTTYPE=image/png:https://cellbiology.wustl.edu/app/uploads/2023/01/Screen-Shot-2023-01-19-at-3.59.43-PM.png
END:VEVENT
BEGIN:VTIMEZONE
TZID:America/Chicago
BEGIN:STANDARD
TZOFFSETFROM:-0500
TZOFFSETTO:-0600
DTSTART:20221106T070000
TZNAME:CST
END:STANDARD
END:VTIMEZONE
END:VCALENDAR
