BEGIN:VCALENDAR
VERSION:2.0
PRODID:-//Cell Biology &amp; Physiology//NONSGML Events//EN
CALSCALE:GREGORIAN
X-ORIGINAL-URL:https://cellbiology.wustl.edu/events-bu/
X-WR-CALDESC:Cell Biology &amp; Physiology - Events
BEGIN:VEVENT
UID:20230211T1506Z-1676127983.8826-EO-10004-1@172.23.128.18
STATUS:CONFIRMED
DTSTAMP:20260421T084922Z
CREATED:20230210T151240Z
LAST-MODIFIED:20230227T192825Z
DTSTART;TZID=America/Chicago:20230303T150000
DTEND;TZID=America/Chicago:20230303T160000
SUMMARY: Work-in-Progress (WIP) Series: DeHaven McCrary
DESCRIPTION: DeHaven McCrary (Jansen Lab): Investigating the role of Coroni
 n 7 as a regulator of actin dynamics and cell migration through Arp2/3 comp
 lex
X-ALT-DESC;FMTTYPE=text/html: <p><b>DeHaven McCrary </b>(Jansen Lab): Inves
 tigating the role of Coronin 7 as a regulator of actin dynamics and cell mi
 gration through Arp2/3 complex</p>
CATEGORIES:Events,Seminars
LOCATION:McDonnell Sciences Building\, Room 423
GEO:41.875562;-87.624421
ORGANIZER;CN="Brian":MAILTO:bmarston@wustl.edu
URL;VALUE=URI:https://cellbiology.wustl.edu/events/event/work-in-progress-w
 ip-series-dehaven-mccrary/
ATTACH;FMTTYPE=image/png:https://cellbiology.wustl.edu/app/uploads/2023/02/Screen-Shot-2023-02-27-at-11.26.16-AM.png
END:VEVENT
BEGIN:VTIMEZONE
TZID:America/Chicago
BEGIN:STANDARD
TZOFFSETFROM:-0500
TZOFFSETTO:-0600
DTSTART:20221106T070000
TZNAME:CST
END:STANDARD
END:VTIMEZONE
END:VCALENDAR
