BEGIN:VCALENDAR
VERSION:2.0
PRODID:-//Cell Biology &amp; Physiology//NONSGML Events//EN
CALSCALE:GREGORIAN
X-ORIGINAL-URL:https://cellbiology.wustl.edu/events-bu/
X-WR-CALDESC:Cell Biology &amp; Physiology - Events
BEGIN:VEVENT
UID:20230525T2221Z-1685053299.4477-EO-11045-1@172.23.128.18
STATUS:CONFIRMED
DTSTAMP:20260421T225028Z
CREATED:20230525T204244Z
LAST-MODIFIED:20230525T204244Z
DTSTART;TZID=America/Chicago:20230617T090000
DTEND;TZID=America/Chicago:20230617T170000
SUMMARY: UMFD Walk/Run
X-ALT-DESC;FMTTYPE=text/html: 
ORGANIZER;CN="Brian":MAILTO:bmarston@wustl.edu
URL;VALUE=URI:https://cellbiology.wustl.edu/events/event/umfd-walk-run/
ATTACH;FMTTYPE=image/png:https://cellbiology.wustl.edu/app/uploads/2023/05/EFL-Flyer-STL-Updated-16x9-1.png
END:VEVENT
BEGIN:VTIMEZONE
TZID:America/Chicago
BEGIN:DAYLIGHT
TZOFFSETFROM:-0600
TZOFFSETTO:-0500
DTSTART:20230312T080000
TZNAME:CDT
END:DAYLIGHT
END:VTIMEZONE
END:VCALENDAR
