BEGIN:VCALENDAR
VERSION:2.0
PRODID:-//Cell Biology &amp; Physiology//NONSGML Events//EN
CALSCALE:GREGORIAN
X-ORIGINAL-URL:https://cellbiology.wustl.edu/events-bu/
X-WR-CALDESC:Cell Biology &amp; Physiology - Events
BEGIN:VEVENT
UID:20230207T0344Z-1675741477.4819-EO-9842-1@172.23.128.18
STATUS:CONFIRMED
DTSTAMP:20260420T151610Z
CREATED:20230206T210533Z
LAST-MODIFIED:20230214T204902Z
DTSTART;TZID=America/Chicago:20230301T130000
DTEND;TZID=America/Chicago:20230301T140000
SUMMARY: Thesis Defense: Geralle Powell
DESCRIPTION: Characterizing the significance of polyA tracks in gene regula
 tion and disease
X-ALT-DESC;FMTTYPE=text/html: <p>Characterizing the significance of polyA t
 racks in gene regulation and disease</p>
CATEGORIES:Events
LOCATION:FLTC Connor Auditorium
GEO:38.634579;-90.263109
ORGANIZER;CN="Brian":MAILTO:bmarston@wustl.edu
URL;VALUE=URI:https://cellbiology.wustl.edu/events/event/thesis-defense/
ATTACH;FMTTYPE=image/png:https://cellbiology.wustl.edu/app/uploads/2023/02/Screen-Shot-2023-02-14-at-2.46.09-PM.png
END:VEVENT
BEGIN:VTIMEZONE
TZID:America/Chicago
BEGIN:STANDARD
TZOFFSETFROM:-0500
TZOFFSETTO:-0600
DTSTART:20221106T070000
TZNAME:CST
END:STANDARD
END:VTIMEZONE
END:VCALENDAR
