BEGIN:VCALENDAR
VERSION:2.0
PRODID:-//Cell Biology &amp; Physiology//NONSGML Events//EN
CALSCALE:GREGORIAN
X-ORIGINAL-URL:https://cellbiology.wustl.edu/events-bu/
X-WR-CALDESC:Cell Biology &amp; Physiology - Events
BEGIN:VEVENT
UID:20230207T0115Z-1675732536.3795-EO-9845-1@172.23.128.18
STATUS:CONFIRMED
DTSTAMP:20260420T131605Z
CREATED:20230206T210635Z
LAST-MODIFIED:20230221T145523Z
DTSTART;TZID=America/Chicago:20230302T141500
DTEND;TZID=America/Chicago:20230302T151500
SUMMARY: Thesis Defense: Samantha Chin
DESCRIPTION: Samantha Chin (Jansen Lab): A role for the actin cytoskeleton 
 and plastin-3 in osteoblast mineralization and mechanosensation.
X-ALT-DESC;FMTTYPE=text/html: <p>Samantha Chin (Jansen Lab): A role for the
  actin cytoskeleton and plastin-3 in osteoblast mineralization and mechanos
 ensation.</p>
CATEGORIES:Events
LOCATION:McDonnell Sciences Building\, Room 423
GEO:41.875562;-87.624421
ORGANIZER;CN="Brian":MAILTO:bmarston@wustl.edu
URL;VALUE=URI:https://cellbiology.wustl.edu/events/event/thesis-defense-2/
ATTACH;FMTTYPE=image/png:https://cellbiology.wustl.edu/app/uploads/2023/02/Screen-Shot-2023-02-21-at-8.53.57-AM.png
END:VEVENT
BEGIN:VTIMEZONE
TZID:America/Chicago
BEGIN:STANDARD
TZOFFSETFROM:-0500
TZOFFSETTO:-0600
DTSTART:20221106T070000
TZNAME:CST
END:STANDARD
END:VTIMEZONE
END:VCALENDAR
