BEGIN:VCALENDAR
VERSION:2.0
PRODID:-//Cell Biology &amp; Physiology//NONSGML Events//EN
CALSCALE:GREGORIAN
X-ORIGINAL-URL:https://cellbiology.wustl.edu/events-bu/
X-WR-CALDESC:Cell Biology &amp; Physiology - Events
BEGIN:VEVENT
UID:20220828T1441Z-1661697698.4539-EO-6166-1@172.23.128.18
STATUS:CONFIRMED
DTSTAMP:20260420T191540Z
CREATED:20220825T200110Z
LAST-MODIFIED:20221208T173641Z
DTSTART;TZID=America/Chicago:20221213T130000
DTEND;TZID=America/Chicago:20221213T140000
SUMMARY: Seminar Series: PLCG2 and other regulators of microglia in Alzheim
 er’s disease and tauopathy
DESCRIPTION: Speaker: Sarah C. Hopp\, PhD                                  
                                                                    […]
X-ALT-DESC;FMTTYPE=text/html: <p>Speaker:</p><p><strong>Sarah C. Hopp\, PhD
                                                                            
                                                        </strong></p><p><em>
 Assistant Professor\, Biggs Institute for Alzheimer's and Neurodegenerative
  Disease\, Department of Pharmacology\, University of Texas Health Science 
 Center-San Antonio</em></p><p>Faculty Host:                                
                                                                            
                                                  <strong>Amber Stratman</st
 rong></p>
CATEGORIES:Events,Seminars
LOCATION:McDonnell Sciences Building\, Room 423
GEO:41.875562;-87.624421
ORGANIZER;CN="Brian":MAILTO:bmarston@wustl.edu
URL;VALUE=URI:https://cellbiology.wustl.edu/events/event/tbd-7/
ATTACH;FMTTYPE=image/png:https://cellbiology.wustl.edu/app/uploads/2022/08/Screen-Shot-2022-12-08-at-11.31.31-AM.png
END:VEVENT
BEGIN:VTIMEZONE
TZID:America/Chicago
BEGIN:STANDARD
TZOFFSETFROM:-0500
TZOFFSETTO:-0600
DTSTART:20221106T070000
TZNAME:CST
END:STANDARD
END:VTIMEZONE
END:VCALENDAR
