BEGIN:VCALENDAR
VERSION:2.0
PRODID:-//Cell Biology &amp; Physiology//NONSGML Events//EN
CALSCALE:GREGORIAN
X-ORIGINAL-URL:https://cellbiology.wustl.edu/events-bu/
X-WR-CALDESC:Cell Biology &amp; Physiology - Events
BEGIN:VEVENT
UID:20220828T1441Z-1661697711.6503-EO-6163-1@172.23.128.18
STATUS:CONFIRMED
DTSTAMP:20260419T215717Z
CREATED:20220825T195937Z
LAST-MODIFIED:20221128T192631Z
DTSTART;TZID=America/Chicago:20221206T130000
DTEND;TZID=America/Chicago:20221206T140000
SUMMARY: Seminar Series: Non-repair roles for DNA repair proteins in cancer
DESCRIPTION: Speaker: Svasti Haricharan\, PhD Assistant Professor\, Aging\,
  Cancer\, and Immuno-Oncology Program\, NCI-Designated Cancer Center\, Sanf
 ord Burnham Prebys Medical Discovery Institute Faculty Host:               
                                                      […]
X-ALT-DESC;FMTTYPE=text/html: <p>Speaker:</p><p><strong>Svasti Haricharan\,
  PhD </strong></p><p><em>Assistant Professor\, Aging\, Cancer\, and Immuno-
 Oncology Program\, NCI-Designated Cancer Center\, Sanford Burnham Prebys Me
 dical Discovery Institute</em></p><p>Faculty Host:                         
                                                                            
                                                         <strong>Amber Strat
 man</strong></p>
CATEGORIES:Events,Seminars
LOCATION:McDonnell Sciences Building\, Room 423
GEO:41.875562;-87.624421
ORGANIZER;CN="Brian":MAILTO:bmarston@wustl.edu
URL;VALUE=URI:https://cellbiology.wustl.edu/events/event/tbd-6/
ATTACH;FMTTYPE=image/png:https://cellbiology.wustl.edu/app/uploads/2022/08/Screen-Shot-2022-11-28-at-1.23.50-PM.png
END:VEVENT
BEGIN:VTIMEZONE
TZID:America/Chicago
BEGIN:STANDARD
TZOFFSETFROM:-0500
TZOFFSETTO:-0600
DTSTART:20221106T070000
TZNAME:CST
END:STANDARD
END:VTIMEZONE
END:VCALENDAR
