BEGIN:VCALENDAR
VERSION:2.0
PRODID:-//Cell Biology &amp; Physiology//NONSGML Events//EN
CALSCALE:GREGORIAN
X-ORIGINAL-URL:https://cellbiology.wustl.edu/events-bu/
X-WR-CALDESC:Cell Biology &amp; Physiology - Events
BEGIN:VEVENT
UID:20220828T1441Z-1661697680.1242-EO-6160-1@172.23.128.18
STATUS:CONFIRMED
DTSTAMP:20260420T074444Z
CREATED:20220825T195756Z
LAST-MODIFIED:20221116T192038Z
DTSTART;TZID=America/Chicago:20221129T130000
DTEND;TZID=America/Chicago:20221129T140000
SUMMARY: Seminar Series: Growth factor pathways that drive immune evasion a
 nd metastasis
DESCRIPTION: Speaker: Rolf Brekken\, PhD                                   
                                                                     […]
X-ALT-DESC;FMTTYPE=text/html: <p>Speaker:</p><p><strong>Rolf Brekken\, PhD 
                                                                            
                                                       </strong></p><p><em>E
 ffie Marie Cain Scholar in Angiogenesis Research Professor of Surgery\, Ham
 on Center for Therapeutic Oncology Research\, UT Southwestern Medical Cente
 r</em></p><p>Faculty Host:                                                 
                                                                            
                                 <strong>Sheila Stewart</strong></p>
CATEGORIES:Events,Seminars
LOCATION:McDonnell Sciences Building\, Room 423
GEO:41.875562;-87.624421
ORGANIZER;CN="Brian":MAILTO:bmarston@wustl.edu
URL;VALUE=URI:https://cellbiology.wustl.edu/events/event/tbd-5/
ATTACH;FMTTYPE=image/png:https://cellbiology.wustl.edu/app/uploads/2022/08/Screen-Shot-2022-11-16-at-1.15.28-PM.png
END:VEVENT
BEGIN:VTIMEZONE
TZID:America/Chicago
BEGIN:STANDARD
TZOFFSETFROM:-0500
TZOFFSETTO:-0600
DTSTART:20221106T070000
TZNAME:CST
END:STANDARD
END:VTIMEZONE
END:VCALENDAR
