BEGIN:VCALENDAR
VERSION:2.0
PRODID:-//Cell Biology &amp; Physiology//NONSGML Events//EN
CALSCALE:GREGORIAN
X-ORIGINAL-URL:https://cellbiology.wustl.edu/events-bu/
X-WR-CALDESC:Cell Biology &amp; Physiology - Events
BEGIN:VEVENT
UID:20220902T0158Z-1662083893.9938-EO-6154-1@172.23.128.18
STATUS:CONFIRMED
DTSTAMP:20260421T133526Z
CREATED:20220825T195410Z
LAST-MODIFIED:20221011T160227Z
DTSTART;TZID=America/Chicago:20221018T130000
DTEND;TZID=America/Chicago:20221018T140000
SUMMARY: Seminar Series: A whisper between two evil twins: the brown and wh
 ite fat crosstalk
DESCRIPTION: Speaker: Yu Aaron An\, PhD                                    
                                                                  […]
X-ALT-DESC;FMTTYPE=text/html: <p>Speaker:</p><p><strong>Yu Aaron An\, PhD  
                                                                            
                                                     </strong></p><p><em>Ass
 istant Professor\, Department of Anesthesiology\, University of Texas Healt
 h-Houston\, McGovern Medical School</em></p><p>Faculty Host:</p><p><strong>
 Clair  Crewe</strong></p>
CATEGORIES:Events,Seminars
LOCATION:McDonnell Sciences Building\, Room 423
GEO:41.875562;-87.624421
ORGANIZER;CN="Brian":MAILTO:bmarston@wustl.edu
URL;VALUE=URI:https://cellbiology.wustl.edu/events/event/tbd-3/
ATTACH;FMTTYPE=image/png:https://cellbiology.wustl.edu/app/uploads/2022/08/Screen-Shot-2022-10-11-at-11.02.03-AM.png
END:VEVENT
BEGIN:VTIMEZONE
TZID:America/Chicago
BEGIN:DAYLIGHT
TZOFFSETFROM:-0600
TZOFFSETTO:-0500
DTSTART:20220313T080000
TZNAME:CDT
END:DAYLIGHT
END:VTIMEZONE
END:VCALENDAR
