BEGIN:VCALENDAR
VERSION:2.0
PRODID:-//Cell Biology &amp; Physiology//NONSGML Events//EN
CALSCALE:GREGORIAN
X-ORIGINAL-URL:https://cellbiology.wustl.edu/events-bu/
X-WR-CALDESC:Cell Biology &amp; Physiology - Events
BEGIN:VEVENT
UID:20220828T1411Z-1661695882.356-EO-6151-1@172.23.128.18
STATUS:CONFIRMED
DTSTAMP:20260421T151059Z
CREATED:20220825T195200Z
LAST-MODIFIED:20221003T183253Z
DTSTART;TZID=America/Chicago:20221011T130000
DTEND;TZID=America/Chicago:20221011T140000
SUMMARY: Seminar Series: Targeting copper transport in cancer and other dis
 eases
DESCRIPTION: Speaker: Michael J. Petris\, PhD                              
                                                                        […]
X-ALT-DESC;FMTTYPE=text/html: <p>Speaker:</p><p><strong>Michael J. Petris\,
  PhD                                                                       
                                                       </strong></p><p><em>A
 ssistant Professor\, Department of Biochemistry\, Molecular Microbiology an
 d Immunology\, and Ophthalmology\, University of Missouri School of Medicin
 e</em></p><p>Faculty Host:</p><p><strong>Peng Yuan</strong></p>
CATEGORIES:Events,Seminars
LOCATION:McDonnell Sciences Building\, Room 423
GEO:41.875562;-87.624421
ORGANIZER;CN="Brian":MAILTO:bmarston@wustl.edu
URL;VALUE=URI:https://cellbiology.wustl.edu/events/event/tbd-2/
ATTACH;FMTTYPE=image/png:https://cellbiology.wustl.edu/app/uploads/2022/08/Screen-Shot-2022-10-03-at-1.32.22-PM.png
END:VEVENT
BEGIN:VTIMEZONE
TZID:America/Chicago
BEGIN:DAYLIGHT
TZOFFSETFROM:-0600
TZOFFSETTO:-0500
DTSTART:20220313T080000
TZNAME:CDT
END:DAYLIGHT
END:VTIMEZONE
END:VCALENDAR
