BEGIN:VCALENDAR
VERSION:2.0
PRODID:-//Cell Biology &amp; Physiology//NONSGML Events//EN
CALSCALE:GREGORIAN
X-ORIGINAL-URL:https://cellbiology.wustl.edu/events-bu/
X-WR-CALDESC:Cell Biology &amp; Physiology - Events
BEGIN:VEVENT
UID:20230913T2322Z-1694647320.1737-EO-11591-1@172.23.128.18
STATUS:CONFIRMED
DTSTAMP:20260423T130910Z
CREATED:20230912T150348Z
LAST-MODIFIED:20230912T150348Z
DTSTART;TZID=America/Chicago:20230915T163000
DTEND;TZID=America/Chicago:20230915T173000
RRULE:FREQ=WEEKLY;INTERVAL=1;BYDAY=FR;UNTIL=20231215T223000Z
EXDATE;TZID=America/Chicago:20231110T163000,20231124T163000,20231215T163000
SUMMARY: Social Hour
X-ALT-DESC;FMTTYPE=text/html: 
CATEGORIES:Events
LOCATION:McDonnell Sciences Building\, Room 423
GEO:41.875562;-87.624421
ORGANIZER;CN="Sarah":MAILTO:sarah.watson@wustl.edu
URL;VALUE=URI:https://cellbiology.wustl.edu/events/event/social-hour/
END:VEVENT
BEGIN:VTIMEZONE
TZID:America/Chicago
BEGIN:DAYLIGHT
TZOFFSETFROM:-0600
TZOFFSETTO:-0500
DTSTART:20230312T080000
TZNAME:CDT
END:DAYLIGHT
BEGIN:STANDARD
TZOFFSETFROM:-0500
TZOFFSETTO:-0600
DTSTART:20231105T070000
TZNAME:CST
END:STANDARD
END:VTIMEZONE
END:VCALENDAR
