BEGIN:VCALENDAR
VERSION:2.0
PRODID:-//Cell Biology &amp; Physiology//NONSGML Events//EN
CALSCALE:GREGORIAN
X-ORIGINAL-URL:https://cellbiology.wustl.edu/events-bu/
X-WR-CALDESC:Cell Biology &amp; Physiology - Events
BEGIN:VEVENT
UID:20231212T2159Z-1702418362.3344-EO-12038-1@172.23.128.18
STATUS:CONFIRMED
DTSTAMP:20260424T055830Z
CREATED:20231212T185718Z
LAST-MODIFIED:20231212T191723Z
DTSTART;TZID=America/Chicago:20231215T160000
DTEND;TZID=America/Chicago:20231215T170000
SUMMARY: Social Hour
DESCRIPTION: Hosted by the Blumer Lab
X-ALT-DESC;FMTTYPE=text/html: <p>Hosted by the Blumer Lab</p>
CATEGORIES:Events
LOCATION:4th Floor Break Room\, South Medical Building
GEO:38.634579;-90.263109
ORGANIZER;CN="Sarah":MAILTO:sarah.watson@wustl.edu
URL;VALUE=URI:https://cellbiology.wustl.edu/events/event/social-hour-2/
END:VEVENT
BEGIN:VTIMEZONE
TZID:America/Chicago
BEGIN:STANDARD
TZOFFSETFROM:-0500
TZOFFSETTO:-0600
DTSTART:20231105T070000
TZNAME:CST
END:STANDARD
END:VTIMEZONE
END:VCALENDAR
