BEGIN:VCALENDAR
VERSION:2.0
PRODID:-//Cell Biology &amp; Physiology//NONSGML Events//EN
CALSCALE:GREGORIAN
X-ORIGINAL-URL:https://cellbiology.wustl.edu/events-bu/
X-WR-CALDESC:Cell Biology &amp; Physiology - Events
BEGIN:VEVENT
UID:20240219T1813Z-1708366381.8451-EO-12338-1@172.23.128.18
STATUS:CONFIRMED
DTSTAMP:20260423T175658Z
CREATED:20240219T163157Z
LAST-MODIFIED:20240219T163157Z
DTSTART;TZID=America/Chicago:20240510T163000
DTEND;TZID=America/Chicago:20240510T173000
SUMMARY: Social Hour
X-ALT-DESC;FMTTYPE=text/html: 
CATEGORIES:Events
LOCATION:McDonnell Sciences Building\, Room 423'
GEO:38.634579;-90.263109
ORGANIZER;CN="Sarah":MAILTO:sarah.watson@wustl.edu
URL;VALUE=URI:https://cellbiology.wustl.edu/events/event/social-hour-13/
END:VEVENT
BEGIN:VTIMEZONE
TZID:America/Chicago
BEGIN:DAYLIGHT
TZOFFSETFROM:-0600
TZOFFSETTO:-0500
DTSTART:20240310T080000
TZNAME:CDT
END:DAYLIGHT
END:VTIMEZONE
END:VCALENDAR
