BEGIN:VCALENDAR
VERSION:2.0
PRODID:-//Cell Biology &amp; Physiology//NONSGML Events//EN
CALSCALE:GREGORIAN
X-ORIGINAL-URL:https://cellbiology.wustl.edu/events-bu/
X-WR-CALDESC:Cell Biology &amp; Physiology - Events
BEGIN:VEVENT
UID:20230211T2220Z-1676154029.5075-EO-9968-1@172.23.128.18
STATUS:CONFIRMED
DTSTAMP:20260424T060025Z
CREATED:20230210T145250Z
LAST-MODIFIED:20230301T144341Z
DTSTART;TZID=America/Chicago:20230307T130000
DTEND;TZID=America/Chicago:20230307T140000
SUMMARY: Seminar Series: Nanodiamond-based quantum sensing in cell biology\
 , drug screening and clinical diagnostics (VIRTUAL ONLY)
DESCRIPTION: Speaker: Aldona Mzyk\, Ph.D.                                  
                                                                       […]
X-ALT-DESC;FMTTYPE=text/html: <p>Speaker:</p><p><strong>Aldona Mzyk\, Ph.D.
                                                                            
                                                  </strong></p><p><em>Postdo
 ctoral Fellow\, Department of Biomedical Engineering\, University of Medica
 l Center Groningen (UMCG)</em></p><p>Faculty Host:</p><p><strong>David Pist
 on/David Kast</strong></p><p><strong>This will be a virtual seminar. Attend
 ees can join via Zoom webinar link:</strong><br />https://wustl.zoom.us/i/9
 1338325751?pwd=dGZWbG9CWWswOHkvSVI3dm01Rkc3QT09<br />Meeting ID: 913 383 25
 7 51\; Passcode: 006384</p>
CATEGORIES:Events,Seminars
ORGANIZER;CN="Brian":MAILTO:bmarston@wustl.edu
URL;VALUE=URI:https://cellbiology.wustl.edu/events/event/seminar-series-tit
 le-tbd/
ATTACH;FMTTYPE=image/png:https://cellbiology.wustl.edu/app/uploads/2023/02/Screen-Shot-2023-03-01-at-8.41.54-AM.png
END:VEVENT
BEGIN:VTIMEZONE
TZID:America/Chicago
BEGIN:STANDARD
TZOFFSETFROM:-0500
TZOFFSETTO:-0600
DTSTART:20221106T070000
TZNAME:CST
END:STANDARD
END:VTIMEZONE
END:VCALENDAR
