BEGIN:VCALENDAR
VERSION:2.0
PRODID:-//Cell Biology &amp; Physiology//NONSGML Events//EN
CALSCALE:GREGORIAN
X-ORIGINAL-URL:https://cellbiology.wustl.edu/events-bu/
X-WR-CALDESC:Cell Biology &amp; Physiology - Events
BEGIN:VEVENT
UID:20230815T2310Z-1692141055.41-EO-11503-1@172.23.128.18
STATUS:CONFIRMED
DTSTAMP:20260424T055754Z
CREATED:20230814T191449Z
LAST-MODIFIED:20230828T153907Z
DTSTART;TZID=America/Chicago:20230926T130000
DTEND;TZID=America/Chicago:20230926T140000
SUMMARY: Seminar Series: Xiaoxia Cui\, PhD
DESCRIPTION: Xiaoxia Cui\, PhD Associate Professor and Director\, Genome En
 gineering & Stem Cell Center\, Department of Genetics\, Washington Universi
 ty School of Medicine Title: Cell and animal models in the era of CRISPR – 
 overview of GESC services Host: Ben Major
X-ALT-DESC;FMTTYPE=text/html: <p><strong>Xiaoxia Cui\, PhD</strong><br />As
 sociate Professor and Director\, Genome Engineering & Stem Cell Center\, De
 partment of Genetics\, Washington University School of Medicine</p><p>Title
 : Cell and animal models in the era of CRISPR - overview of GESC services</
 p><p>Host: Ben Major</p>
CATEGORIES:Events,Seminars
LOCATION:McDonnell Sciences Building\, Room 423'
GEO:38.634579;-90.263109
ORGANIZER;CN="Sarah":MAILTO:sarah.watson@wustl.edu
URL;VALUE=URI:https://cellbiology.wustl.edu/events/event/seminar-series-tbd
 /
END:VEVENT
BEGIN:VTIMEZONE
TZID:America/Chicago
BEGIN:DAYLIGHT
TZOFFSETFROM:-0600
TZOFFSETTO:-0500
DTSTART:20230312T080000
TZNAME:CDT
END:DAYLIGHT
END:VTIMEZONE
END:VCALENDAR
