BEGIN:VCALENDAR
VERSION:2.0
PRODID:-//Cell Biology &amp; Physiology//NONSGML Events//EN
CALSCALE:GREGORIAN
X-ORIGINAL-URL:https://cellbiology.wustl.edu/events-bu/
X-WR-CALDESC:Cell Biology &amp; Physiology - Events
BEGIN:VEVENT
UID:20230211T2221Z-1676154075.1534-EO-9965-1@172.23.128.18
STATUS:CONFIRMED
DTSTAMP:20260422T121042Z
CREATED:20230210T145058Z
LAST-MODIFIED:20230223T200002Z
DTSTART;TZID=America/Chicago:20230228T130000
DTEND;TZID=America/Chicago:20230228T140000
SUMMARY: Seminar Series: Diamond-based quantum sensor for molecular analyti
 cs
DESCRIPTION: Speaker: Mouzhe Xie\, Ph.D.                                   
                                                                      […]
X-ALT-DESC;FMTTYPE=text/html: <p>Speaker:</p><p><strong>Mouzhe Xie\, Ph.D. 
                                                                            
                                                 </strong></p><p><em>Postdoc
 toral Scholar\, Pritzker School of Molecular Engineering\, The University o
 f Chicago</em></p><p>Faculty Host:</p><p><strong>David Piston/David Kast</s
 trong></p>
CATEGORIES:Events,Seminars
LOCATION:McDonnell Sciences Building\, Room 423
GEO:41.875562;-87.624421
ORGANIZER;CN="Brian":MAILTO:bmarston@wustl.edu
URL;VALUE=URI:https://cellbiology.wustl.edu/events/event/seminar-series-dia
 mond-based-quantum-sensor-for-molecular-analysis/
ATTACH;FMTTYPE=image/png:https://cellbiology.wustl.edu/app/uploads/2023/02/Screen-Shot-2023-02-08-at-8.47.16-AM.png
END:VEVENT
BEGIN:VTIMEZONE
TZID:America/Chicago
BEGIN:STANDARD
TZOFFSETFROM:-0500
TZOFFSETTO:-0600
DTSTART:20221106T070000
TZNAME:CST
END:STANDARD
END:VTIMEZONE
END:VCALENDAR
