BEGIN:VCALENDAR
VERSION:2.0
PRODID:-//Cell Biology &amp; Physiology//NONSGML Events//EN
CALSCALE:GREGORIAN
X-ORIGINAL-URL:https://cellbiology.wustl.edu/events-bu/
X-WR-CALDESC:Cell Biology &amp; Physiology - Events
BEGIN:VEVENT
UID:20240223T2024Z-1708719879.6264-EO-12410-1@172.23.128.18
STATUS:CONFIRMED
DTSTAMP:20260422T134413Z
CREATED:20240223T185431Z
LAST-MODIFIED:20240223T185431Z
DTSTART;TZID=America/Chicago:20240430T130000
DTEND;TZID=America/Chicago:20240430T140000
SUMMARY: Seminar Series
X-ALT-DESC;FMTTYPE=text/html: 
CATEGORIES:Events,Seminars
LOCATION:McDonnell Sciences Building\, Room 423'
GEO:38.634579;-90.263109
ORGANIZER;CN="Sarah":MAILTO:sarah.watson@wustl.edu
URL;VALUE=URI:https://cellbiology.wustl.edu/events/event/seminar-series-13/
END:VEVENT
BEGIN:VTIMEZONE
TZID:America/Chicago
BEGIN:DAYLIGHT
TZOFFSETFROM:-0600
TZOFFSETTO:-0500
DTSTART:20240310T080000
TZNAME:CDT
END:DAYLIGHT
END:VTIMEZONE
END:VCALENDAR
