BEGIN:VCALENDAR
VERSION:2.0
PRODID:-//Cell Biology &amp; Physiology//NONSGML Events//EN
CALSCALE:GREGORIAN
X-ORIGINAL-URL:https://cellbiology.wustl.edu/events-bu/
X-WR-CALDESC:Cell Biology &amp; Physiology - Events
BEGIN:VEVENT
UID:20240223T2024Z-1708719879.6074-EO-12407-1@172.23.128.18
STATUS:CONFIRMED
DTSTAMP:20260424T060051Z
CREATED:20240223T185226Z
LAST-MODIFIED:20240327T134517Z
DTSTART;TZID=America/Chicago:20240402T130000
DTEND;TZID=America/Chicago:20240402T140000
SUMMARY: Seminar Series:  Circular RNA Immunity
DESCRIPTION: Ye Grace Chen\, Ph.D.          Assistant Professor\, Yale Univ
 ersity School of Medicine Faculty Host:  Chun-Kan Chen\, Ph.D.
X-ALT-DESC;FMTTYPE=text/html: <p><strong>Ye Grace Chen\, Ph.D.         </st
 rong></p><p>Assistant Professor\, Yale University School of Medicine</p><p>
 Faculty Host:  Chun-Kan Chen\, Ph.D.</p>
CATEGORIES:Events,Seminars
LOCATION:McDonnell Sciences Building\, Room 423'
GEO:38.634579;-90.263109
ORGANIZER;CN="Sarah":MAILTO:sarah.watson@wustl.edu
URL;VALUE=URI:https://cellbiology.wustl.edu/events/event/seminar-series-10/
END:VEVENT
BEGIN:VTIMEZONE
TZID:America/Chicago
BEGIN:DAYLIGHT
TZOFFSETFROM:-0600
TZOFFSETTO:-0500
DTSTART:20240310T080000
TZNAME:CDT
END:DAYLIGHT
END:VTIMEZONE
END:VCALENDAR
