BEGIN:VCALENDAR
VERSION:2.0
PRODID:-//Cell Biology &amp; Physiology//NONSGML Events//EN
CALSCALE:GREGORIAN
X-ORIGINAL-URL:https://cellbiology.wustl.edu/events-bu/
X-WR-CALDESC:Cell Biology &amp; Physiology - Events
BEGIN:VEVENT
UID:20230906T1603Z-1694016236.552-EO-11570-1@172.23.128.18
STATUS:CONFIRMED
DTSTAMP:20260423T174309Z
CREATED:20230905T141325Z
LAST-MODIFIED:20230905T141325Z
DTSTART;TZID=America/Chicago:20230915T160000
DTEND;TZID=America/Chicago:20230915T163000
SUMMARY: MCB/CBP Work-in-Progress (WIP) Seminar
DESCRIPTION: Kyle LaPak (Major Lab) “Proximal proteomics connects NRF2 supp
 ression to ZNF746/PARIS-driven oxidative stress and apoptosis in Parkinson’
 s disease”
X-ALT-DESC;FMTTYPE=text/html: <p>Kyle LaPak (Major Lab)</p><p>"Proximal pro
 teomics connects NRF2 suppression to ZNF746/PARIS-driven oxidative stress a
 nd apoptosis in Parkinson’s disease"</p>
CATEGORIES:Events,Seminars
LOCATION:McDonnell Sciences Building\, Room 423
GEO:41.875562;-87.624421
ORGANIZER;CN="Sarah":MAILTO:sarah.watson@wustl.edu
URL;VALUE=URI:https://cellbiology.wustl.edu/events/event/mcb-cbp-work-in-pr
 ogress-wip-seminar/
ATTACH;FMTTYPE=image/jpeg:https://cellbiology.wustl.edu/app/uploads/2023/09/Unknown.jpeg
END:VEVENT
BEGIN:VTIMEZONE
TZID:America/Chicago
BEGIN:DAYLIGHT
TZOFFSETFROM:-0600
TZOFFSETTO:-0500
DTSTART:20230312T080000
TZNAME:CDT
END:DAYLIGHT
END:VTIMEZONE
END:VCALENDAR
