BEGIN:VCALENDAR
VERSION:2.0
PRODID:-//Cell Biology &amp; Physiology//NONSGML Events//EN
CALSCALE:GREGORIAN
X-ORIGINAL-URL:https://cellbiology.wustl.edu/events-bu/
X-WR-CALDESC:Cell Biology &amp; Physiology - Events
BEGIN:VEVENT
UID:20230913T2322Z-1694647320.2207-EO-11582-1@172.23.128.18
STATUS:CONFIRMED
DTSTAMP:20260424T055904Z
CREATED:20230912T145945Z
LAST-MODIFIED:20231009T140242Z
DTSTART;TZID=America/Chicago:20231013T160000
DTEND;TZID=America/Chicago:20231013T163000
SUMMARY: CBP/MCB Work-in-Progress (WIP) Seminar: Ryan Bitter
DESCRIPTION: Ryan Bitter (Yuan/Hultgren Lab) “Structural basis of protein t
 ranslocation and inhibition in an outer membrane E. coli virulence factor”
X-ALT-DESC;FMTTYPE=text/html: <p><strong>Ryan Bitter </strong>(Yuan/Hultgre
 n Lab)</p><p>"Structural basis of protein translocation and inhibition in a
 n outer membrane E. coli virulence factor"</p>
CATEGORIES:Events,Seminars
LOCATION:McDonnell Sciences Building\, Room 423
GEO:41.875562;-87.624421
ORGANIZER;CN="Sarah":MAILTO:sarah.watson@wustl.edu
URL;VALUE=URI:https://cellbiology.wustl.edu/events/event/mcb-cbp-work-in-pr
 ogress-wip-seminar-5/
END:VEVENT
BEGIN:VTIMEZONE
TZID:America/Chicago
BEGIN:DAYLIGHT
TZOFFSETFROM:-0600
TZOFFSETTO:-0500
DTSTART:20230312T080000
TZNAME:CDT
END:DAYLIGHT
END:VTIMEZONE
END:VCALENDAR
