BEGIN:VCALENDAR
VERSION:2.0
PRODID:-//Cell Biology &amp; Physiology//NONSGML Events//EN
CALSCALE:GREGORIAN
X-ORIGINAL-URL:https://cellbiology.wustl.edu/events-bu/
X-WR-CALDESC:Cell Biology &amp; Physiology - Events
BEGIN:VEVENT
UID:20230913T2322Z-1694647320.1948-EO-11578-1@172.23.128.18
STATUS:CONFIRMED
DTSTAMP:20260424T055907Z
CREATED:20230912T145846Z
LAST-MODIFIED:20230926T142751Z
DTSTART;TZID=America/Chicago:20230929T160000
DTEND;TZID=America/Chicago:20230929T163000
SUMMARY: CBP/MCB Work-in-Progress (WIP) Seminar: Rosa Scala
DESCRIPTION: Rosa Scala (Nichols Lab) “Consequences of KATP channels gain-o
 f-function in the skeletal muscle of a murine model of Cantù syndrome”
X-ALT-DESC;FMTTYPE=text/html: <p><strong>Rosa Scala </strong><br />(Nichols
  Lab)</p><p>"Consequences of KATP channels gain-of-function in the<br />ske
 letal muscle of a murine model of Cantù syndrome"</p>
CATEGORIES:Events,Seminars
LOCATION:McDonnell Sciences Building\, Room 423
GEO:41.875562;-87.624421
ORGANIZER;CN="Sarah":MAILTO:sarah.watson@wustl.edu
URL;VALUE=URI:https://cellbiology.wustl.edu/events/event/mcb-cbp-work-in-pr
 ogress-wip-seminar-3/
END:VEVENT
BEGIN:VTIMEZONE
TZID:America/Chicago
BEGIN:DAYLIGHT
TZOFFSETFROM:-0600
TZOFFSETTO:-0500
DTSTART:20230312T080000
TZNAME:CDT
END:DAYLIGHT
END:VTIMEZONE
END:VCALENDAR
