BEGIN:VCALENDAR
VERSION:2.0
PRODID:-//Cell Biology &amp; Physiology//NONSGML Events//EN
CALSCALE:GREGORIAN
X-ORIGINAL-URL:https://cellbiology.wustl.edu/events-bu/
X-WR-CALDESC:Cell Biology &amp; Physiology - Events
BEGIN:VEVENT
UID:20230913T2322Z-1694647320.1865-EO-11577-1@172.23.128.18
STATUS:CONFIRMED
DTSTAMP:20260424T055921Z
CREATED:20230912T145816Z
LAST-MODIFIED:20230920T191600Z
DTSTART;TZID=America/Chicago:20230922T160000
DTEND;TZID=America/Chicago:20230922T163000
SUMMARY: MCB/CBP Work-in-Progress (WIP) Seminar: Sarah Colijn
DESCRIPTION: Sarah Colijn (Stratman Lab) “Novel roles for centriolar protei
 n WDR90 in endothelial cells and cardiac tissue”
X-ALT-DESC;FMTTYPE=text/html: <p>Sarah Colijn (Stratman Lab)</p><p>"Novel r
 oles for centriolar protein WDR90 in endothelial cells and cardiac tissue"<
 /p>
CATEGORIES:Events,Seminars
LOCATION:McDonnell Sciences Building\, Room 423
GEO:41.875562;-87.624421
ORGANIZER;CN="Sarah":MAILTO:sarah.watson@wustl.edu
URL;VALUE=URI:https://cellbiology.wustl.edu/events/event/mcb-cbp-work-in-pr
 ogress-wip-seminar-2/
END:VEVENT
BEGIN:VTIMEZONE
TZID:America/Chicago
BEGIN:DAYLIGHT
TZOFFSETFROM:-0600
TZOFFSETTO:-0500
DTSTART:20230312T080000
TZNAME:CDT
END:DAYLIGHT
END:VTIMEZONE
END:VCALENDAR
