BEGIN:VCALENDAR
VERSION:2.0
PRODID:-//Cell Biology &amp; Physiology//NONSGML Events//EN
CALSCALE:GREGORIAN
X-ORIGINAL-URL:https://cellbiology.wustl.edu/events-bu/
X-WR-CALDESC:Cell Biology &amp; Physiology - Events
BEGIN:VEVENT
UID:20230913T2322Z-1694647320.2718-EO-11587-1@172.23.128.18
STATUS:CONFIRMED
DTSTAMP:20260424T055814Z
CREATED:20230912T150153Z
LAST-MODIFIED:20230926T133606Z
DTSTART;TZID=America/Chicago:20231117T160000
DTEND;TZID=America/Chicago:20231117T163000
SUMMARY: CBP/MCB Work-in-Progress (WIP) Seminar: Hannah Lynn
DESCRIPTION: Hannah Lynn (Gordon Lab)
X-ALT-DESC;FMTTYPE=text/html: <p><strong>Hannah Lynn </strong><br />(Gordon
  Lab)</p>
CATEGORIES:Events,Seminars
LOCATION:McDonnell Sciences Building\, Room 423
GEO:41.875562;-87.624421
ORGANIZER;CN="Sarah":MAILTO:sarah.watson@wustl.edu
URL;VALUE=URI:https://cellbiology.wustl.edu/events/event/mcb-cbp-work-in-pr
 ogress-wip-seminar-10/
END:VEVENT
BEGIN:VTIMEZONE
TZID:America/Chicago
BEGIN:STANDARD
TZOFFSETFROM:-0500
TZOFFSETTO:-0600
DTSTART:20231105T070000
TZNAME:CST
END:STANDARD
END:VTIMEZONE
END:VCALENDAR
