BEGIN:VCALENDAR
VERSION:2.0
PRODID:-//Cell Biology &amp; Physiology//NONSGML Events//EN
CALSCALE:GREGORIAN
X-ORIGINAL-URL:https://cellbiology.wustl.edu/events-bu/
X-WR-CALDESC:Cell Biology &amp; Physiology - Events
BEGIN:VEVENT
UID:20230124T2044Z-1674593046.0172-EO-8952-1@172.23.128.18
STATUS:CONFIRMED
DTSTAMP:20260420T043819Z
CREATED:20230124T151850Z
LAST-MODIFIED:20230124T152540Z
DTSTART;TZID=America/Chicago:20230125T100000
DTEND;TZID=America/Chicago:20230125T110000
SUMMARY: LiCor Imager Training
DESCRIPTION: Training will cover: 1-      Overview of your Odyssey imaging 
 system and advanced applications 2-      Image acquisition with Image Studi
 o Software 3-      Data analysis with Empiria Studio Software 4-      Assay
  best practices and troubleshooting 5-      Q&A on any other topics you may
  be interested in   Join Teams Meeting en-US https://nam02.safelinks.protec
 tion.outlook.com/ap/t-59584e83/?url=https%3A%2F%2Fteams.microsoft.com%2Fl%2
 Fmeetup-join%2F19%253ameeting_NGU1MGU4ZTQtZjQ4Ni00MDI4LTlkZGEtM2M3YzU5NjMzM
 DNk%2540thread.v2%2F0%3Fcontext%3D%257b%2522Tid%2522%253a%252248c70abd-da5a
 -4c6c-86cb-5e003ca01574%2522%252c%2522Oid %2522%253a%252217d077e9-ac3c-4e4b
 -a059-032dcb7b3fe6%2522%257d&data=05%7C01%7Clori.showalter%40licor.com%7Cfd
 9549146a9c4b8797bf08dafd94de1b%7C48c70abdda5a4c6c86cb5e003ca01574%7C0%7C0%7
 C638101113075193097%7CUnknown%7CTWFpbGZsb3d8eyJWIjoiMC4wLjAwMDAiLCJQIjoiV2l
 uMzIiLCJBTiI6Ik1haWwiLCJXVCI6Mn0%3D%7C3000%7C%7C%7C&sdata=7kAcNYcSIWURQT%2B
 c%2BS2lCfhwL1%2Bl9Lty3utX%2F9oHO%2BA%3D&reserved=0 Meeting ID: 265 318 […]
X-ALT-DESC;FMTTYPE=text/html: <p>Training will cover:</p><p>1-      Overvie
 w of your Odyssey imaging system and advanced applications</p><p>2-      Im
 age acquisition with Image Studio Software</p><p>3-      Data analysis with
  Empiria Studio Software</p><p>4-      Assay best practices and troubleshoo
 ting</p><p>5-      Q&A on any other topics you may be interested in</p><p> 
 </p><p>Join Teams Meeting<br />en-US<br /><a title="Original URL: https://t
 eams.microsoft.com/l/meetup-join/19%3ameeting_NGU1MGU4ZTQtZjQ4Ni00MDI4LTlkZ
 GEtM2M3YzU5NjMzMDNk%40thread.v2/0?context=%7b%22Tid%22%3a%2248c70abd-da5a-4
 c6c-86cb-5e003ca01574%22%2c%22Oid%22%3a%2217d077e9-ac3c-4e4b-a059-032dcb7b3
 fe6%22%7d Click to follow link." href="https://nam10.safelinks.protection.o
 utlook.com/ap/t-59584e83/?url=https%3A%2F%2Fteams.microsoft.com%2Fl%2Fmeetu
 p-join%2F19%253ameeting_NGU1MGU4ZTQtZjQ4Ni00MDI4LTlkZGEtM2M3YzU5NjMzMDNk%25
 40thread.v2%2F0%3Fcontext%3D%257b%2522Tid%2522%253a%252248c70abd-da5a-4c6c-
 86cb-5e003ca01574%2522%252c%2522Oid%2522%253a%252217d077e9-ac3c-4e4b-a059-0
 32dcb7b3fe6%2522%257d&data=05%7C01%7Csarah.watson%40wustl.edu%7Cc9873efa2b3
 64d1292df08dafe1df324%7C4ccca3b571cd4e6d974b4d9beb96c6d6%7C0%7C0%7C63810170
 1823578267%7CUnknown%7CTWFpbGZsb3d8eyJWIjoiMC4wLjAwMDAiLCJQIjoiV2luMzIiLCJB
 TiI6Ik1haWwiLCJXVCI6Mn0%3D%7C3000%7C%7C%7C&sdata=kqJJBSBX%2FyOBYnr1IISaWOkY
 C%2Fx%2FeRo9dYzlqaqbRcM%3D&reserved=0">https://nam02.safelinks.protection.o
 utlook.com/ap/t-59584e83/?url=https%3A%2F%2Fteams.microsoft.com%2Fl%2Fmeetu
 p-join%2F19%253ameeting_NGU1MGU4ZTQtZjQ4Ni00MDI4LTlkZGEtM2M3YzU5NjMzMDNk%25
 40thread.v2%2F0%3Fcontext%3D%257b%2522Tid%2522%253a%252248c70abd-da5a-4c6c-
 86cb-5e003ca01574%2522%252c%2522Oid %2522%253a%252217d077e9-ac3c-4e4b-a059-
 032dcb7b3fe6%2522%257d&data=05%7C01%7Clori.showalter%40licor.com%7Cfd954914
 6a9c4b8797bf08dafd94de1b%7C48c70abdda5a4c6c86cb5e003ca01574%7C0%7C0%7C63810
 1113075193097%7CUnknown%7CTWFpbGZsb3d8eyJWIjoiMC4wLjAwMDAiLCJQIjoiV2luMzIiL
 CJBTiI6Ik1haWwiLCJXVCI6Mn0%3D%7C3000%7C%7C%7C&sdata=7kAcNYcSIWURQT%2Bc%2BS2
 lCfhwL1%2Bl9Lty3utX%2F9oHO%2BA%3D&reserved=0</a></p><p>Meeting ID: 265 318 
 175 471<br />Passcode: sTahuo</p>
CATEGORIES:Events
ORGANIZER;CN="Brian":MAILTO:bmarston@wustl.edu
URL;VALUE=URI:https://cellbiology.wustl.edu/events/event/licor-imager-train
 ing/
END:VEVENT
BEGIN:VTIMEZONE
TZID:America/Chicago
BEGIN:STANDARD
TZOFFSETFROM:-0500
TZOFFSETTO:-0600
DTSTART:20221106T070000
TZNAME:CST
END:STANDARD
END:VTIMEZONE
END:VCALENDAR
