BEGIN:VCALENDAR
VERSION:2.0
PRODID:-//Cell Biology &amp; Physiology//NONSGML Events//EN
CALSCALE:GREGORIAN
X-ORIGINAL-URL:https://cellbiology.wustl.edu/events-bu/
X-WR-CALDESC:Cell Biology &amp; Physiology - Events
BEGIN:VEVENT
UID:20240223T2024Z-1708719879.5771-EO-12472-1@172.23.128.18
STATUS:CONFIRMED
DTSTAMP:20260423T221257Z
CREATED:20240223T201909Z
LAST-MODIFIED:20240223T201909Z
DTSTART;TZID=America/Chicago:20240226T150000
DTEND;TZID=America/Chicago:20240226T160000
SUMMARY: KingFisher Virtual Seminar
DESCRIPTION: The KingFisher is now installed and ready for use! We currentl
 y have the magnetic head and heat block for 96 deep well plates (50-1000 uL
  range)\, but will soon have the heating block for 24 well plates (200-5000
  uL volume range). If you are interested in using the KingFisher\, please r
 each out to one of […]
X-ALT-DESC;FMTTYPE=text/html: <p style="font-weight: 400\;">The KingFisher 
 is now installed and ready for use! We currently have the magnetic head and
  heat block for 96 deep well plates (50-1000 uL range)\, but will soon have
  the heating block for 24 well plates (200-5000 uL volume range). If you ar
 e interested in using the KingFisher\, please reach out to one of the follo
 wing people for hands-on training for how to operate the instrument and saf
 ely change the fragile magnetic heads. There is a shared instrument calenda
 r for booking time on the instrument and also a paper log for tracking use.
 </p><p style="font-weight: 400\;">Caroline Fecher - <a href="mailto:fecher@
 wustl.edu" data-outlook-id="9f62c909-639a-4d7e-ba7a-6762c4e81193">fecher@wu
 stl.edu</a></p><p style="font-weight: 400\;">Alex Jacoby - <a href="mailto:
 alexj@wustl.edu" data-outlook-id="4b058c00-eb76-42d4-9dc0-a01735b48da8">ale
 xj@wustl.edu</a></p><p style="font-weight: 400\;">Andrew Smith - <a href="m
 ailto:smith.andrew@wustl.edu" data-outlook-id="ee559a9d-f2e3-4dd3-9c47-86b0
 fbd91d24">smith.andrew@wustl.edu</a></p><p style="font-weight: 400\;">Isaac
  Plutzer - <a href="mailto:plutzer@wustl.edu" data-outlook-id="3aca2638-b99
 8-48e3-a7e5-2c37e337d662">plutzer@wustl.edu</a></p><p style="font-weight: 4
 00\;">Emily Wilkerson Zarbock – <a href="mailto:emilyz@wustl.edu" data-outl
 ook-id="f73a0225-a40c-4dee-adfa-e3b2c657eb77">emilyz@wustl.edu</a></p><p st
 yle="font-weight: 400\;"><p style="font-weight: 400\;"><strong>Also\, there
  will be a virtual training on <u>Monday February 26<sup>th</sup> at 3 PM v
 ia Microsoft Teams</u> with another field specialist to focus on protein ap
 plications on the KingFisher. Please see below for the meeting details. </s
 trong></p><p style="font-weight: 400\;"><strong> </strong></p><p style="fon
 t-weight: 400\;">As always\, please let me know if you have any questions (
 <a href="mailto:emilyz@wustl.edu">emilyz@wustl.edu</a>)!</p><p style="font-
 weight: 400\;"><strong> </strong></p><p style="font-weight: 400\;">________
 ________________________________________________________________________</p
 ><p style="font-weight: 400\;">Microsoft Teams meeting</p><p style="font-we
 ight: 400\;"><strong>Join on your computer\, mobile app or room device</str
 ong></p><p style="font-weight: 400\;"><a href="https://nam10.safelinks.prot
 ection.outlook.com/ap/t-59584e83/?url=https%3A%2F%2Fteams.microsoft.com%2Fl
 %2Fmeetup-join%2F19%253ameeting_YmY0ZWZjZTYtNzQxOC00MmM5LTljMTgtMzRjNjY3ODg
 1NGY1%2540thread.v2%2F0%3Fcontext%3D%257b%2522Tid%2522%253a%2522b67d722d-aa
 8a-4777-a169-ebeb7a6a3b67%2522%252c%2522Oid%2522%253a%252285826325-2f49-483
 3-9162-180797adc10c%2522%257d&data=05%7C02%7Csarah.watson%40wustl.edu%7C6f0
 f647ca14e42b78ae708dc34aae7e6%7C4ccca3b571cd4e6d974b4d9beb96c6d6%7C0%7C0%7C
 638443155852218969%7CUnknown%7CTWFpbGZsb3d8eyJWIjoiMC4wLjAwMDAiLCJQIjoiV2lu
 MzIiLCJBTiI6Ik1haWwiLCJXVCI6Mn0%3D%7C0%7C%7C%7C&sdata=GPJ6caZ%2B6MjZY%2BDAV
 XyNP%2FosFDjCmntMCngH4eWKPP8%3D&reserved=0" data-outlook-id="8b02e556-0476-
 4616-b89f-3c7e6cf2349e">Click here to join the meeting</a></p><p style="fon
 t-weight: 400\;">Meeting ID: 238 001 989 269<br />Passcode: faNTg6</p><p st
 yle="font-weight: 400\;"><a href="https://nam10.safelinks.protection.outloo
 k.com/?url=https%3A%2F%2Fwww.microsoft.com%2Fen-us%2Fmicrosoft-teams%2Fdown
 load-app&data=05%7C02%7Csarah.watson%40wustl.edu%7C6f0f647ca14e42b78ae708dc
 34aae7e6%7C4ccca3b571cd4e6d974b4d9beb96c6d6%7C0%7C0%7C638443155852231481%7C
 Unknown%7CTWFpbGZsb3d8eyJWIjoiMC4wLjAwMDAiLCJQIjoiV2luMzIiLCJBTiI6Ik1haWwiL
 CJXVCI6Mn0%3D%7C0%7C%7C%7C&sdata=6rzo%2BAZwLkgIYdlDlwDH3f0ikvaOd4ED1%2Bp8xb
 nUCxg%3D&reserved=0" data-outlook-id="dcc69420-d327-483a-80b2-ea90bcd0542a"
 >Download Teams</a> | <a href="https://nam10.safelinks.protection.outlook.c
 om/?url=https%3A%2F%2Fwww.microsoft.com%2Fmicrosoft-teams%2Fjoin-a-meeting&
 data=05%7C02%7Csarah.watson%40wustl.edu%7C6f0f647ca14e42b78ae708dc34aae7e6%
 7C4ccca3b571cd4e6d974b4d9beb96c6d6%7C0%7C0%7C638443155852238296%7CUnknown%7
 CTWFpbGZsb3d8eyJWIjoiMC4wLjAwMDAiLCJQIjoiV2luMzIiLCJBTiI6Ik1haWwiLCJXVCI6Mn
 0%3D%7C0%7C%7C%7C&sdata=deav9Hnbh4WopMyrIGy6t4i6lpkNKHv4hO4Yc%2FLUsmE%3D&re
 served=0" data-outlook-id="106bfde6-2bc7-495d-b060-525b72c76ae8">Join on th
 e web</a></p><p style="font-weight: 400\;"><strong>Join with a video confer
 encing device</strong></p><p style="font-weight: 400\;"><a href="mailto:Pex
 ipteams@video.thermofisher.net" data-outlook-id="7e0e5fe3-810f-42cf-b858-81
 0f19af2556">Pexipteams@video.thermofisher.net</a></p><p style="font-weight:
  400\;">Video Conference ID: 119 309 467 4</p><p style="font-weight: 400\;"
 >Alternate VTC instructions</p><p style="font-weight: 400\;"><strong>Or cal
 l in (audio only)</strong></p><p style="font-weight: 400\;"><a href="tel:+1
 8722428051\,\,869796519# " data-outlook-id="e3d8d91e-2f49-4165-9a82-175d053
 ef741">+1 872-242-8051\,\,869796519#</a>   United States\, Chicago</p><p st
 yle="font-weight: 400\;">Phone Conference ID: 869 796 519#</p><p style="fon
 t-weight: 400\;"><a href="https://nam10.safelinks.protection.outlook.com/?u
 rl=https%3A%2F%2Fdialin.teams.microsoft.com%2F28b57a70-a2df-4964-93db-87654
 2a71ff8%3Fid%3D869796519&data=05%7C02%7Csarah.watson%40wustl.edu%7C6f0f647c
 a14e42b78ae708dc34aae7e6%7C4ccca3b571cd4e6d974b4d9beb96c6d6%7C0%7C0%7C63844
 3155852245019%7CUnknown%7CTWFpbGZsb3d8eyJWIjoiMC4wLjAwMDAiLCJQIjoiV2luMzIiL
 CJBTiI6Ik1haWwiLCJXVCI6Mn0%3D%7C0%7C%7C%7C&sdata=ajfdWKNhIXvvNimMYMZbn89z6d
 wb%2FkIP3P5aKJt69BI%3D&reserved=0" data-outlook-id="223bf265-cdc8-47cc-9076
 -7724edb27124">Find a local number</a> | <a href="https://nam10.safelinks.p
 rotection.outlook.com/?url=https%3A%2F%2Fdialin.teams.microsoft.com%2Fusp%2
 Fpstnconferencing&data=05%7C02%7Csarah.watson%40wustl.edu%7C6f0f647ca14e42b
 78ae708dc34aae7e6%7C4ccca3b571cd4e6d974b4d9beb96c6d6%7C0%7C0%7C638443155852
 252958%7CUnknown%7CTWFpbGZsb3d8eyJWIjoiMC4wLjAwMDAiLCJQIjoiV2luMzIiLCJBTiI6
 Ik1haWwiLCJXVCI6Mn0%3D%7C0%7C%7C%7C&sdata=z7PLf7vUDzTFYLYpGry%2FZLUdT1DYInd
 QPTAtVuHIMw8%3D&reserved=0" data-outlook-id="bd58a94b-0651-4ab1-a39e-eb74ec
 d1968f">Reset PIN</a></p><p style="font-weight: 400\;"><a href="https://nam
 10.safelinks.protection.outlook.com/?url=https%3A%2F%2Faka.ms%2FJoinTeamsMe
 eting&data=05%7C02%7Csarah.watson%40wustl.edu%7C6f0f647ca14e42b78ae708dc34a
 ae7e6%7C4ccca3b571cd4e6d974b4d9beb96c6d6%7C0%7C0%7C638443155852262153%7CUnk
 nown%7CTWFpbGZsb3d8eyJWIjoiMC4wLjAwMDAiLCJQIjoiV2luMzIiLCJBTiI6Ik1haWwiLCJX
 VCI6Mn0%3D%7C0%7C%7C%7C&sdata=3dBaLWKEj2TPz7%2B2ltmwFfqW2aqYunq1LDtKWBZu3Dk
 %3D&reserved=0" data-outlook-id="35f46b13-6c1c-4e8a-9dd9-99c0fbe7ceea">Lear
 n More</a> | <a href="https://nam10.safelinks.protection.outlook.com/?url=h
 ttps%3A%2F%2Fteams.microsoft.com%2FmeetingOptions%2F%3ForganizerId%3D858263
 25-2f49-4833-9162-180797adc10c%26tenantId%3Db67d722d-aa8a-4777-a169-ebeb7a6
 a3b67%26threadId%3D19_meeting_YmY0ZWZjZTYtNzQxOC00MmM5LTljMTgtMzRjNjY3ODg1N
 GY1%40thread.v2%26messageId%3D0%26language%3Den-US&data=05%7C02%7Csarah.wat
 son%40wustl.edu%7C6f0f647ca14e42b78ae708dc34aae7e6%7C4ccca3b571cd4e6d974b4d
 9beb96c6d6%7C0%7C0%7C638443155852269116%7CUnknown%7CTWFpbGZsb3d8eyJWIjoiMC4
 wLjAwMDAiLCJQIjoiV2luMzIiLCJBTiI6Ik1haWwiLCJXVCI6Mn0%3D%7C0%7C%7C%7C&sdata=
 2PAyuxCyz1j014enQ2oE5Svyxl9agwMVIBdLyqr3JKE%3D&reserved=0" data-outlook-id=
 "3c42ac09-c92f-41d4-a46e-e603f44145b7">Meeting options</a></p>
CATEGORIES:Events
ORGANIZER;CN="Sarah":MAILTO:sarah.watson@wustl.edu
URL;VALUE=URI:https://cellbiology.wustl.edu/events/event/kingfisher-virtual
 -seminar/
END:VEVENT
BEGIN:VTIMEZONE
TZID:America/Chicago
BEGIN:STANDARD
TZOFFSETFROM:-0500
TZOFFSETTO:-0600
DTSTART:20231105T070000
TZNAME:CST
END:STANDARD
END:VTIMEZONE
END:VCALENDAR
