BEGIN:VCALENDAR
VERSION:2.0
PRODID:-//Cell Biology &amp; Physiology//NONSGML Events//EN
CALSCALE:GREGORIAN
X-ORIGINAL-URL:https://cellbiology.wustl.edu/events-bu/
X-WR-CALDESC:Cell Biology &amp; Physiology - Events
BEGIN:VEVENT
UID:20230418T2115Z-1681852510.3496-EO-10913-1@172.23.128.18
STATUS:CONFIRMED
DTSTAMP:20260423T232029Z
CREATED:20230413T153106Z
LAST-MODIFIED:20230413T153106Z
DTSTART;TZID=America/Chicago:20230519T160000
DTEND;TZID=America/Chicago:20230519T170000
SUMMARY: Happy Hour
DESCRIPTION: Host: Business Office
X-ALT-DESC;FMTTYPE=text/html: <p>Host: Business Office</p>
CATEGORIES:Events
LOCATION:4th Floor Break Room\, South Medical Building
GEO:38.634579;-90.263109
ORGANIZER;CN="Brian":MAILTO:bmarston@wustl.edu
URL;VALUE=URI:https://cellbiology.wustl.edu/events/event/happy-hour-9/
END:VEVENT
BEGIN:VTIMEZONE
TZID:America/Chicago
BEGIN:DAYLIGHT
TZOFFSETFROM:-0600
TZOFFSETTO:-0500
DTSTART:20230312T080000
TZNAME:CDT
END:DAYLIGHT
END:VTIMEZONE
END:VCALENDAR
