BEGIN:VCALENDAR
VERSION:2.0
PRODID:-//Cell Biology &amp; Physiology//NONSGML Events//EN
CALSCALE:GREGORIAN
X-ORIGINAL-URL:https://cellbiology.wustl.edu/events-bu/
X-WR-CALDESC:Cell Biology &amp; Physiology - Events
BEGIN:VEVENT
UID:20220909T0252Z-1662691978.5146-EO-6358-1@172.23.128.18
STATUS:CONFIRMED
DTSTAMP:20260424T060359Z
CREATED:20220907T141511Z
LAST-MODIFIED:20220928T161813Z
DTSTART;TZID=America/Chicago:20221028T160000
DTEND;TZID=America/Chicago:20221028T170000
SUMMARY: Happy Hour
DESCRIPTION: Host: Nichols Lab
X-ALT-DESC;FMTTYPE=text/html: <p>Host: Nichols Lab</p>
CATEGORIES:Events
LOCATION:4th Floor Break Room\, South Medical Building
GEO:38.634579;-90.263109
ORGANIZER;CN="Brian":MAILTO:bmarston@wustl.edu
URL;VALUE=URI:https://cellbiology.wustl.edu/events/event/happy-hour-7/
END:VEVENT
BEGIN:VTIMEZONE
TZID:America/Chicago
BEGIN:DAYLIGHT
TZOFFSETFROM:-0600
TZOFFSETTO:-0500
DTSTART:20220313T080000
TZNAME:CDT
END:DAYLIGHT
END:VTIMEZONE
END:VCALENDAR
