BEGIN:VCALENDAR
VERSION:2.0
PRODID:-//Cell Biology &amp; Physiology//NONSGML Events//EN
CALSCALE:GREGORIAN
X-ORIGINAL-URL:https://cellbiology.wustl.edu/events-bu/
X-WR-CALDESC:Cell Biology &amp; Physiology - Events
BEGIN:VEVENT
UID:20220908T2044Z-1662669894.6907-EO-6409-1@172.23.128.19
STATUS:CONFIRMED
DTSTAMP:20260424T060007Z
CREATED:20220907T143221Z
LAST-MODIFIED:20230327T181215Z
DTSTART;TZID=America/Chicago:20230331T160000
DTEND;TZID=America/Chicago:20230331T170000
SUMMARY: Happy Hour
DESCRIPTION: Host: Stratman Lab
X-ALT-DESC;FMTTYPE=text/html: <p>Host: Stratman Lab</p>
CATEGORIES:Events
LOCATION:4th Floor Break Room\, South Medical Building
GEO:38.634579;-90.263109
ORGANIZER;CN="Brian":MAILTO:bmarston@wustl.edu
URL;VALUE=URI:https://cellbiology.wustl.edu/events/event/happy-hour-24/
END:VEVENT
BEGIN:VTIMEZONE
TZID:America/Chicago
BEGIN:DAYLIGHT
TZOFFSETFROM:-0600
TZOFFSETTO:-0500
DTSTART:20230312T080000
TZNAME:CDT
END:DAYLIGHT
END:VTIMEZONE
END:VCALENDAR
