BEGIN:VCALENDAR
VERSION:2.0
PRODID:-//Cell Biology &amp; Physiology//NONSGML Events//EN
CALSCALE:GREGORIAN
X-ORIGINAL-URL:https://cellbiology.wustl.edu/events-bu/
X-WR-CALDESC:Cell Biology &amp; Physiology - Events
BEGIN:VEVENT
UID:20220909T0252Z-1662691978.5543-EO-6391-1@172.23.128.18
STATUS:CONFIRMED
DTSTAMP:20260424T060039Z
CREATED:20220907T142520Z
LAST-MODIFIED:20220907T142520Z
DTSTART;TZID=America/Chicago:20230217T160000
DTEND;TZID=America/Chicago:20230217T170000
SUMMARY: Happy Hour
DESCRIPTION: Host: Huettner Lab
X-ALT-DESC;FMTTYPE=text/html: <p>Host: Huettner Lab</p>
CATEGORIES:Events
LOCATION:4th Floor Break Room\, South Medical Building
GEO:38.634579;-90.263109
ORGANIZER;CN="Brian":MAILTO:bmarston@wustl.edu
URL;VALUE=URI:https://cellbiology.wustl.edu/events/event/happy-hour-18/
END:VEVENT
BEGIN:VTIMEZONE
TZID:America/Chicago
BEGIN:STANDARD
TZOFFSETFROM:-0500
TZOFFSETTO:-0600
DTSTART:20221106T070000
TZNAME:CST
END:STANDARD
END:VTIMEZONE
END:VCALENDAR
