BEGIN:VCALENDAR
VERSION:2.0
PRODID:-//Cell Biology &amp; Physiology//NONSGML Events//EN
CALSCALE:GREGORIAN
X-ORIGINAL-URL:https://cellbiology.wustl.edu/events-bu/
X-WR-CALDESC:Cell Biology &amp; Physiology - Events
BEGIN:VEVENT
UID:20220909T0252Z-1662691978.5248-EO-6367-1@172.23.128.18
STATUS:CONFIRMED
DTSTAMP:20260424T060355Z
CREATED:20220907T141750Z
LAST-MODIFIED:20221115T162851Z
DTSTART;TZID=America/Chicago:20221118T160000
DTEND;TZID=America/Chicago:20221118T170000
SUMMARY: Happy Hour
DESCRIPTION: Host: True Lab
X-ALT-DESC;FMTTYPE=text/html: <p>Host: True Lab</p>
CATEGORIES:Events
LOCATION:4th Floor Break Room\, South Medical Building
GEO:38.634579;-90.263109
ORGANIZER;CN="Brian":MAILTO:bmarston@wustl.edu
URL;VALUE=URI:https://cellbiology.wustl.edu/events/event/happy-hour-10/
ATTACH;FMTTYPE=image/webp:https://cellbiology.wustl.edu/app/uploads/2022/10/115010193-happy-hour-neon-sign-vector-happy-hour-design-template-neon-sign-night-dinner-celebration-light-bann.webp
END:VEVENT
BEGIN:VTIMEZONE
TZID:America/Chicago
BEGIN:STANDARD
TZOFFSETFROM:-0500
TZOFFSETTO:-0600
DTSTART:20221106T070000
TZNAME:CST
END:STANDARD
END:VTIMEZONE
END:VCALENDAR
