BEGIN:VCALENDAR
VERSION:2.0
PRODID:-//Cell Biology &amp; Physiology//NONSGML Events//EN
CALSCALE:GREGORIAN
X-ORIGINAL-URL:https://cellbiology.wustl.edu/events-bu/
X-WR-CALDESC:Cell Biology &amp; Physiology - Events
BEGIN:VEVENT
UID:20250418T1600Z-1744992018.2023-EO-13672-1@10.73.9.36
STATUS:CONFIRMED
DTSTAMP:20260422T161543Z
CREATED:20250418T155449Z
LAST-MODIFIED:20250421T134747Z
DTSTART;VALUE=DATE:20250925
DTEND;VALUE=DATE:20250927
SUMMARY: CBP|MCB Retreat
X-ALT-DESC;FMTTYPE=text/html: 
CATEGORIES:Events
LOCATION:YMCA Trout Lodge
GEO:37.936438;-90.787909
ORGANIZER;CN="Helen":MAILTO:helenz@wustl.edu
URL;VALUE=URI:https://cellbiology.wustl.edu/events/event/cbpmcb-retreat/
ATTACH;FMTTYPE=image/jpeg:https://cellbiology.wustl.edu/app/uploads/2025/04/Brown-Green-Orange-Creative-Summer-Camp-Flyer-1.jpg
END:VEVENT
BEGIN:VTIMEZONE
TZID:America/Chicago
BEGIN:DAYLIGHT
TZOFFSETFROM:-0600
TZOFFSETTO:-0500
DTSTART:20250309T080000
TZNAME:CDT
END:DAYLIGHT
END:VTIMEZONE
END:VCALENDAR
