BEGIN:VCALENDAR
VERSION:2.0
PRODID:-//Cell Biology &amp; Physiology//NONSGML Events//EN
CALSCALE:GREGORIAN
X-ORIGINAL-URL:https://cellbiology.wustl.edu/events-bu/
X-WR-CALDESC:Cell Biology &amp; Physiology - Events
BEGIN:VEVENT
UID:20250528T1737Z-1748453868.6509-EO-13808-1@10.73.9.36
STATUS:CONFIRMED
DTSTAMP:20260424T060532Z
CREATED:20250528T163736Z
LAST-MODIFIED:20250528T163823Z
DTSTART;TZID=America/Chicago:20250609T130000
DTEND;TZID=America/Chicago:20250609T140000
SUMMARY: Cell Biology & Physiology Special Seminar
X-ALT-DESC;FMTTYPE=text/html: 
CATEGORIES:Events,Seminars
LOCATION:McDonnell Sciences\, 4th Floor\, Room 423
GEO:38.634579;-90.263109
ORGANIZER;CN="Helen":MAILTO:helenz@wustl.edu
URL;VALUE=URI:https://cellbiology.wustl.edu/events/event/cbp-special-semina
 r/
ATTACH;FMTTYPE=image/jpeg:https://cellbiology.wustl.edu/app/uploads/2025/05/CBP-Seminar_06.9.2025.jpg
END:VEVENT
BEGIN:VTIMEZONE
TZID:America/Chicago
BEGIN:DAYLIGHT
TZOFFSETFROM:-0600
TZOFFSETTO:-0500
DTSTART:20250309T080000
TZNAME:CDT
END:DAYLIGHT
END:VTIMEZONE
END:VCALENDAR
