BEGIN:VCALENDAR
VERSION:2.0
PRODID:-//Cell Biology &amp; Physiology//NONSGML Events//EN
CALSCALE:GREGORIAN
X-ORIGINAL-URL:https://cellbiology.wustl.edu/events-bu/
X-WR-CALDESC:Cell Biology &amp; Physiology - Events
BEGIN:VEVENT
UID:20240219T1813Z-1708366381.6984-EO-12341-1@172.23.128.18
STATUS:CONFIRMED
DTSTAMP:20260423T163945Z
CREATED:20240219T163436Z
LAST-MODIFIED:20240219T163707Z
DTSTART;TZID=America/Chicago:20240223T160000
DTEND;TZID=America/Chicago:20240223T163000
SUMMARY: CBP/MCB Work-in-Progress (WIP) Seminar
X-ALT-DESC;FMTTYPE=text/html: 
CATEGORIES:Events,Seminars
LOCATION:McDonnell Sciences Building\, Room 423'
GEO:38.634579;-90.263109
ORGANIZER;CN="Sarah":MAILTO:sarah.watson@wustl.edu
URL;VALUE=URI:https://cellbiology.wustl.edu/events/event/cbp-mcb-work-in-pr
 ogress-wip-seminar/
END:VEVENT
BEGIN:VTIMEZONE
TZID:America/Chicago
BEGIN:STANDARD
TZOFFSETFROM:-0500
TZOFFSETTO:-0600
DTSTART:20231105T070000
TZNAME:CST
END:STANDARD
END:VTIMEZONE
END:VCALENDAR
