BEGIN:VCALENDAR
VERSION:2.0
PRODID:-//Cell Biology &amp; Physiology//NONSGML Events//EN
CALSCALE:GREGORIAN
X-ORIGINAL-URL:https://cellbiology.wustl.edu/events-bu/
X-WR-CALDESC:Cell Biology &amp; Physiology - Events
BEGIN:VEVENT
UID:20240219T1813Z-1708366381.8682-EO-12353-1@172.23.128.18
STATUS:CONFIRMED
DTSTAMP:20260422T161548Z
CREATED:20240219T164701Z
LAST-MODIFIED:20240219T164701Z
DTSTART;TZID=America/Chicago:20240524T160000
DTEND;TZID=America/Chicago:20240524T163000
SUMMARY: CBP/MCB Work-in-Progress (WIP) Seminar
X-ALT-DESC;FMTTYPE=text/html: 
CATEGORIES:Events,Seminars
LOCATION:McDonnell Sciences Building\, Room 423'
GEO:38.634579;-90.263109
ORGANIZER;CN="Sarah":MAILTO:sarah.watson@wustl.edu
URL;VALUE=URI:https://cellbiology.wustl.edu/events/event/cbp-mcb-work-in-pr
 ogress-wip-seminar-13/
END:VEVENT
BEGIN:VTIMEZONE
TZID:America/Chicago
BEGIN:DAYLIGHT
TZOFFSETFROM:-0600
TZOFFSETTO:-0500
DTSTART:20240310T080000
TZNAME:CDT
END:DAYLIGHT
END:VTIMEZONE
END:VCALENDAR
