BEGIN:VCALENDAR
VERSION:2.0
PRODID:-//Cell Biology &amp; Physiology//NONSGML Events//EN
CALSCALE:GREGORIAN
X-ORIGINAL-URL:https://cellbiology.wustl.edu/events-bu/
X-WR-CALDESC:Cell Biology &amp; Physiology - Events
BEGIN:VEVENT
UID:20231220T2048Z-1703105339.8313-EO-12062-1@172.23.128.18
STATUS:CONFIRMED
DTSTAMP:20260424T060146Z
CREATED:20231220T153831Z
LAST-MODIFIED:20231220T153831Z
DTSTART;TZID=America/Chicago:20241010T100000
DTEND;TZID=America/Chicago:20241011T120000
SUMMARY: CBP/MCB Retreat
X-ALT-DESC;FMTTYPE=text/html: 
CATEGORIES:Events
LOCATION:YMCA Trout Lodge
GEO:37.936438;-90.787909
ORGANIZER;CN="Sarah":MAILTO:sarah.watson@wustl.edu
URL;VALUE=URI:https://cellbiology.wustl.edu/events/event/cbp-mcb-retreat/
END:VEVENT
BEGIN:VTIMEZONE
TZID:America/Chicago
BEGIN:DAYLIGHT
TZOFFSETFROM:-0600
TZOFFSETTO:-0500
DTSTART:20240310T080000
TZNAME:CDT
END:DAYLIGHT
END:VTIMEZONE
END:VCALENDAR
