BEGIN:VCALENDAR
VERSION:2.0
PRODID:-//Cell Biology &amp; Physiology//NONSGML Events//EN
CALSCALE:GREGORIAN
X-ORIGINAL-URL:https://cellbiology.wustl.edu/events-bu/
X-WR-CALDESC:Cell Biology &amp; Physiology - Events
BEGIN:VEVENT
UID:20240219T1813Z-1708366381.7125-EO-12327-1@172.23.128.18
STATUS:CONFIRMED
DTSTAMP:20260424T060058Z
CREATED:20240219T145434Z
LAST-MODIFIED:20240219T145434Z
DTSTART;TZID=America/Chicago:20240301T160000
DTEND;TZID=America/Chicago:20240301T173000
SUMMARY: BBSB Poster Session & Happy Hour
DESCRIPTION: Poster session and happy hour for all accepted PhD candidates.
X-ALT-DESC;FMTTYPE=text/html: <p>Poster session and happy hour for all acce
 pted PhD candidates.</p>
CATEGORIES:Events
LOCATION:FLTC Lobby
GEO:38.634579;-90.263109
ORGANIZER;CN="Sarah":MAILTO:sarah.watson@wustl.edu
URL;VALUE=URI:https://cellbiology.wustl.edu/events/event/bbsb-poster-sessio
 n-happy-hour/
END:VEVENT
BEGIN:VTIMEZONE
TZID:America/Chicago
BEGIN:STANDARD
TZOFFSETFROM:-0500
TZOFFSETTO:-0600
DTSTART:20231105T070000
TZNAME:CST
END:STANDARD
END:VTIMEZONE
END:VCALENDAR
