BEGIN:VCALENDAR
VERSION:2.0
PRODID:-//Cell Biology &amp; Physiology//NONSGML Events//EN
CALSCALE:GREGORIAN
X-ORIGINAL-URL:https://cellbiology.wustl.edu/events-bu/
X-WR-CALDESC:Cell Biology &amp; Physiology - Events
BEGIN:VEVENT
UID:20240118T1821Z-1705602109.2307-EO-12216-1@172.23.128.18
STATUS:CONFIRMED
DTSTAMP:20260424T060147Z
CREATED:20240118T180043Z
LAST-MODIFIED:20250320T134441Z
DTSTART;TZID=America/Chicago:20250408T150000
DTEND;TZID=America/Chicago:20250408T160000
SUMMARY: 2025 Robert P. Mecham Distinguished Lectureship
DESCRIPTION: The 2025 Robert P. Mecham Distinguished Lecturer will be Dr. C
 hengua Gu\, Professor of Neurobiology at Harvard Medical School. This serie
 s will be held in April 2025.
X-ALT-DESC;FMTTYPE=text/html: <p>The 2025 Robert P. Mecham Distinguished Le
 cturer will be <a href="https://neuro.hms.harvard.edu/faculty-staff/chenghu
 a-gu" data-type="link" data-id="https://neuro.hms.harvard.edu/faculty-staff
 /chenghua-gu">Dr. Chengua Gu</a>\, Professor of Neurobiology at Harvard Med
 ical School. This series will be held in April 2025.</p>
CATEGORIES:Events
LOCATION:FLTC Connor Auditorium
GEO:38.634579;-90.263109
ORGANIZER;CN="Sarah":MAILTO:sarah.watson@wustl.edu
URL;VALUE=URI:https://cellbiology.wustl.edu/events/event/2025-robert-p-mech
 am-distinguished-lectureship/
ATTACH;FMTTYPE=image/jpeg:https://cellbiology.wustl.edu/app/uploads/2024/01/GU_POSTER.jpg
END:VEVENT
BEGIN:VTIMEZONE
TZID:America/Chicago
BEGIN:DAYLIGHT
TZOFFSETFROM:-0600
TZOFFSETTO:-0500
DTSTART:20250309T080000
TZNAME:CDT
END:DAYLIGHT
END:VTIMEZONE
END:VCALENDAR
